BEGIN:VCALENDAR
VERSION:2.0
PRODID:-//Cedar Heights Baptist Church - ECPv6.15.20//NONSGML v1.0//EN
CALSCALE:GREGORIAN
METHOD:PUBLISH
X-WR-CALNAME:Cedar Heights Baptist Church
X-ORIGINAL-URL:https://cedarheightsbaptist.com
X-WR-CALDESC:Events for Cedar Heights Baptist Church
REFRESH-INTERVAL;VALUE=DURATION:PT1H
X-Robots-Tag:noindex
X-PUBLISHED-TTL:PT1H
BEGIN:VTIMEZONE
TZID:America/Chicago
BEGIN:DAYLIGHT
TZOFFSETFROM:-0600
TZOFFSETTO:-0500
TZNAME:CDT
DTSTART:20180311T080000
END:DAYLIGHT
BEGIN:STANDARD
TZOFFSETFROM:-0500
TZOFFSETTO:-0600
TZNAME:CST
DTSTART:20181104T070000
END:STANDARD
BEGIN:DAYLIGHT
TZOFFSETFROM:-0600
TZOFFSETTO:-0500
TZNAME:CDT
DTSTART:20190310T080000
END:DAYLIGHT
BEGIN:STANDARD
TZOFFSETFROM:-0500
TZOFFSETTO:-0600
TZNAME:CST
DTSTART:20191103T070000
END:STANDARD
BEGIN:DAYLIGHT
TZOFFSETFROM:-0600
TZOFFSETTO:-0500
TZNAME:CDT
DTSTART:20200308T080000
END:DAYLIGHT
BEGIN:STANDARD
TZOFFSETFROM:-0500
TZOFFSETTO:-0600
TZNAME:CST
DTSTART:20201101T070000
END:STANDARD
BEGIN:DAYLIGHT
TZOFFSETFROM:-0600
TZOFFSETTO:-0500
TZNAME:CDT
DTSTART:20210314T080000
END:DAYLIGHT
BEGIN:STANDARD
TZOFFSETFROM:-0500
TZOFFSETTO:-0600
TZNAME:CST
DTSTART:20211107T070000
END:STANDARD
BEGIN:DAYLIGHT
TZOFFSETFROM:-0600
TZOFFSETTO:-0500
TZNAME:CDT
DTSTART:20220313T080000
END:DAYLIGHT
BEGIN:STANDARD
TZOFFSETFROM:-0500
TZOFFSETTO:-0600
TZNAME:CST
DTSTART:20221106T070000
END:STANDARD
BEGIN:DAYLIGHT
TZOFFSETFROM:-0600
TZOFFSETTO:-0500
TZNAME:CDT
DTSTART:20230312T080000
END:DAYLIGHT
BEGIN:STANDARD
TZOFFSETFROM:-0500
TZOFFSETTO:-0600
TZNAME:CST
DTSTART:20231105T070000
END:STANDARD
END:VTIMEZONE
BEGIN:VEVENT
DTSTART;TZID=America/Chicago:20221210T160000
DTEND;TZID=America/Chicago:20221210T203000
DTSTAMP:20260422T094346
CREATED:20221201T190823Z
LAST-MODIFIED:20221201T201928Z
UID:10004329-1670688000-1670704200@cedarheightsbaptist.com
SUMMARY:Women's Christmas Dinner Serving House of Hope
DESCRIPTION:Who: Women and girls of helpful age \nWhere: CHBC Fellowship Hall \n4  p.m. Make freezer meals\, assemble craft kits\, and wrap pajamas and rugs to be given to HOH families. \n5  p.m. Dinner Please RSVP to Lynn Bauer by Dec. 4th if you will be eating. \n6 – 8:30 p.m. Carpooling to Festival of Lights for HOH and/or wrapping personal Christmas presents. \nCome to as much or as little of the evening as you can.
URL:https://cedarheightsbaptist.com/event/womens-christmas-dinner-serving-house-of-hope/
CATEGORIES:Adults
ORGANIZER;CN="Lynn Bauer":MAILTO:lynnandjoe.bauer04@gmail.com
END:VEVENT
BEGIN:VEVENT
DTSTART;TZID=America/Chicago:20220729T180000
DTEND;TZID=America/Chicago:20220729T200000
DTSTAMP:20260422T094346
CREATED:20220719T163935Z
LAST-MODIFIED:20220719T163935Z
UID:10003797-1659117600-1659124800@cedarheightsbaptist.com
SUMMARY:Women's Ministry: Walk around Prairie Lakes
DESCRIPTION:
URL:https://cedarheightsbaptist.com/event/womens-ministry-walk-around-prairie-lakes/
ORGANIZER;CN="Lynn Bauer":MAILTO:lynnandjoe.bauer04@gmail.com
END:VEVENT
BEGIN:VEVENT
DTSTART;TZID=America/Chicago:20190806T183000
DTEND;TZID=America/Chicago:20190806T203000
DTSTAMP:20260422T094346
CREATED:20190606T162946Z
LAST-MODIFIED:20190717T134307Z
UID:10000960-1565116200-1565123400@cedarheightsbaptist.com
SUMMARY:Women's Ministry: Armor of God
DESCRIPTION:This seven-week DVD study by Pricilla Shirer is more than just a description of the Armor of God — It is a chance to really understand the armor that God gives us and to learn to “be strong in the Lord and the strength of His might” (Eph. 6:10). \nWe will meet in the Cedar Saints room.
URL:https://cedarheightsbaptist.com/event/womens-ministry-armor-of-god/2019-08-06/
LOCATION:Cedar Heights Baptist Church\, 2430 Neola St.\, Cedar Falls\, IA\, 50613
CATEGORIES:Adults
ORGANIZER;CN="Lynn Bauer":MAILTO:lynnandjoe.bauer04@gmail.com
GEO:42.5157502;-92.4132507
X-APPLE-STRUCTURED-LOCATION;VALUE=URI;X-ADDRESS=Cedar Heights Baptist Church 2430 Neola St. Cedar Falls IA 50613;X-APPLE-RADIUS=500;X-TITLE=2430 Neola St.:geo:-92.4132507,42.5157502
END:VEVENT
BEGIN:VEVENT
DTSTART;TZID=America/Chicago:20190730T183000
DTEND;TZID=America/Chicago:20190730T203000
DTSTAMP:20260422T094346
CREATED:20190606T162946Z
LAST-MODIFIED:20190717T134307Z
UID:10000959-1564511400-1564518600@cedarheightsbaptist.com
SUMMARY:Women's Ministry: Armor of God
DESCRIPTION:This seven-week DVD study by Pricilla Shirer is more than just a description of the Armor of God — It is a chance to really understand the armor that God gives us and to learn to “be strong in the Lord and the strength of His might” (Eph. 6:10). \nWe will meet in the Cedar Saints room.
URL:https://cedarheightsbaptist.com/event/womens-ministry-armor-of-god/2019-07-30/
LOCATION:Cedar Heights Baptist Church\, 2430 Neola St.\, Cedar Falls\, IA\, 50613
CATEGORIES:Adults
ORGANIZER;CN="Lynn Bauer":MAILTO:lynnandjoe.bauer04@gmail.com
GEO:42.5157502;-92.4132507
X-APPLE-STRUCTURED-LOCATION;VALUE=URI;X-ADDRESS=Cedar Heights Baptist Church 2430 Neola St. Cedar Falls IA 50613;X-APPLE-RADIUS=500;X-TITLE=2430 Neola St.:geo:-92.4132507,42.5157502
END:VEVENT
BEGIN:VEVENT
DTSTART;TZID=America/Chicago:20190725T183000
DTEND;TZID=America/Chicago:20190725T203000
DTSTAMP:20260422T094346
CREATED:20190606T162946Z
LAST-MODIFIED:20190717T134307Z
UID:10000958-1564079400-1564086600@cedarheightsbaptist.com
SUMMARY:Women's Ministry: Armor of God
DESCRIPTION:This seven-week DVD study by Pricilla Shirer is more than just a description of the Armor of God — It is a chance to really understand the armor that God gives us and to learn to “be strong in the Lord and the strength of His might” (Eph. 6:10). \nWe will meet in the Cedar Saints room.
URL:https://cedarheightsbaptist.com/event/womens-ministry-armor-of-god/2019-07-25/
LOCATION:Cedar Heights Baptist Church\, 2430 Neola St.\, Cedar Falls\, IA\, 50613
CATEGORIES:Adults
ORGANIZER;CN="Lynn Bauer":MAILTO:lynnandjoe.bauer04@gmail.com
GEO:42.5157502;-92.4132507
X-APPLE-STRUCTURED-LOCATION;VALUE=URI;X-ADDRESS=Cedar Heights Baptist Church 2430 Neola St. Cedar Falls IA 50613;X-APPLE-RADIUS=500;X-TITLE=2430 Neola St.:geo:-92.4132507,42.5157502
END:VEVENT
BEGIN:VEVENT
DTSTART;TZID=America/Chicago:20190716T183000
DTEND;TZID=America/Chicago:20190716T203000
DTSTAMP:20260422T094346
CREATED:20190606T162946Z
LAST-MODIFIED:20190717T134307Z
UID:10000957-1563301800-1563309000@cedarheightsbaptist.com
SUMMARY:Women's Ministry: Armor of God
DESCRIPTION:This seven-week DVD study by Pricilla Shirer is more than just a description of the Armor of God — It is a chance to really understand the armor that God gives us and to learn to “be strong in the Lord and the strength of His might” (Eph. 6:10). \nWe will meet in the Cedar Saints room.
URL:https://cedarheightsbaptist.com/event/womens-ministry-armor-of-god/2019-07-16/
LOCATION:Cedar Heights Baptist Church\, 2430 Neola St.\, Cedar Falls\, IA\, 50613
CATEGORIES:Adults
ORGANIZER;CN="Lynn Bauer":MAILTO:lynnandjoe.bauer04@gmail.com
GEO:42.5157502;-92.4132507
X-APPLE-STRUCTURED-LOCATION;VALUE=URI;X-ADDRESS=Cedar Heights Baptist Church 2430 Neola St. Cedar Falls IA 50613;X-APPLE-RADIUS=500;X-TITLE=2430 Neola St.:geo:-92.4132507,42.5157502
END:VEVENT
BEGIN:VEVENT
DTSTART;TZID=America/Chicago:20190709T183000
DTEND;TZID=America/Chicago:20190709T203000
DTSTAMP:20260422T094346
CREATED:20190606T162946Z
LAST-MODIFIED:20190717T134307Z
UID:10000956-1562697000-1562704200@cedarheightsbaptist.com
SUMMARY:Women's Ministry: Armor of God
DESCRIPTION:This seven-week DVD study by Pricilla Shirer is more than just a description of the Armor of God — It is a chance to really understand the armor that God gives us and to learn to “be strong in the Lord and the strength of His might” (Eph. 6:10). \nWe will meet in the Cedar Saints room.
URL:https://cedarheightsbaptist.com/event/womens-ministry-armor-of-god/2019-07-09/
LOCATION:Cedar Heights Baptist Church\, 2430 Neola St.\, Cedar Falls\, IA\, 50613
CATEGORIES:Adults
ORGANIZER;CN="Lynn Bauer":MAILTO:lynnandjoe.bauer04@gmail.com
GEO:42.5157502;-92.4132507
X-APPLE-STRUCTURED-LOCATION;VALUE=URI;X-ADDRESS=Cedar Heights Baptist Church 2430 Neola St. Cedar Falls IA 50613;X-APPLE-RADIUS=500;X-TITLE=2430 Neola St.:geo:-92.4132507,42.5157502
END:VEVENT
BEGIN:VEVENT
DTSTART;TZID=America/Chicago:20190702T183000
DTEND;TZID=America/Chicago:20190702T203000
DTSTAMP:20260422T094346
CREATED:20190606T162946Z
LAST-MODIFIED:20190717T134307Z
UID:10000955-1562092200-1562099400@cedarheightsbaptist.com
SUMMARY:Women's Ministry: Armor of God
DESCRIPTION:This seven-week DVD study by Pricilla Shirer is more than just a description of the Armor of God — It is a chance to really understand the armor that God gives us and to learn to “be strong in the Lord and the strength of His might” (Eph. 6:10). \nWe will meet in the Cedar Saints room.
URL:https://cedarheightsbaptist.com/event/womens-ministry-armor-of-god/2019-07-02/
LOCATION:Cedar Heights Baptist Church\, 2430 Neola St.\, Cedar Falls\, IA\, 50613
CATEGORIES:Adults
ORGANIZER;CN="Lynn Bauer":MAILTO:lynnandjoe.bauer04@gmail.com
GEO:42.5157502;-92.4132507
X-APPLE-STRUCTURED-LOCATION;VALUE=URI;X-ADDRESS=Cedar Heights Baptist Church 2430 Neola St. Cedar Falls IA 50613;X-APPLE-RADIUS=500;X-TITLE=2430 Neola St.:geo:-92.4132507,42.5157502
END:VEVENT
BEGIN:VEVENT
DTSTART;TZID=America/Chicago:20190625T183000
DTEND;TZID=America/Chicago:20190625T203000
DTSTAMP:20260422T094346
CREATED:20190606T162946Z
LAST-MODIFIED:20190717T134307Z
UID:10000954-1561487400-1561494600@cedarheightsbaptist.com
SUMMARY:Women's Ministry: Armor of God
DESCRIPTION:This seven-week DVD study by Pricilla Shirer is more than just a description of the Armor of God — It is a chance to really understand the armor that God gives us and to learn to “be strong in the Lord and the strength of His might” (Eph. 6:10). \nWe will meet in the Cedar Saints room.
URL:https://cedarheightsbaptist.com/event/womens-ministry-armor-of-god/2019-06-25/
LOCATION:Cedar Heights Baptist Church\, 2430 Neola St.\, Cedar Falls\, IA\, 50613
CATEGORIES:Adults
ORGANIZER;CN="Lynn Bauer":MAILTO:lynnandjoe.bauer04@gmail.com
GEO:42.5157502;-92.4132507
X-APPLE-STRUCTURED-LOCATION;VALUE=URI;X-ADDRESS=Cedar Heights Baptist Church 2430 Neola St. Cedar Falls IA 50613;X-APPLE-RADIUS=500;X-TITLE=2430 Neola St.:geo:-92.4132507,42.5157502
END:VEVENT
END:VCALENDAR