BEGIN:VCALENDAR
VERSION:2.0
PRODID:-//Cedar Heights Baptist Church - ECPv6.15.20//NONSGML v1.0//EN
CALSCALE:GREGORIAN
METHOD:PUBLISH
X-ORIGINAL-URL:https://cedarheightsbaptist.com
X-WR-CALDESC:Events for Cedar Heights Baptist Church
REFRESH-INTERVAL;VALUE=DURATION:PT1H
X-Robots-Tag:noindex
X-PUBLISHED-TTL:PT1H
BEGIN:VTIMEZONE
TZID:America/Chicago
BEGIN:DAYLIGHT
TZOFFSETFROM:-0600
TZOFFSETTO:-0500
TZNAME:CDT
DTSTART:20210314T080000
END:DAYLIGHT
BEGIN:STANDARD
TZOFFSETFROM:-0500
TZOFFSETTO:-0600
TZNAME:CST
DTSTART:20211107T070000
END:STANDARD
BEGIN:DAYLIGHT
TZOFFSETFROM:-0600
TZOFFSETTO:-0500
TZNAME:CDT
DTSTART:20220313T080000
END:DAYLIGHT
BEGIN:STANDARD
TZOFFSETFROM:-0500
TZOFFSETTO:-0600
TZNAME:CST
DTSTART:20221106T070000
END:STANDARD
BEGIN:DAYLIGHT
TZOFFSETFROM:-0600
TZOFFSETTO:-0500
TZNAME:CDT
DTSTART:20230312T080000
END:DAYLIGHT
BEGIN:STANDARD
TZOFFSETFROM:-0500
TZOFFSETTO:-0600
TZNAME:CST
DTSTART:20231105T070000
END:STANDARD
BEGIN:DAYLIGHT
TZOFFSETFROM:-0600
TZOFFSETTO:-0500
TZNAME:CDT
DTSTART:20240310T080000
END:DAYLIGHT
BEGIN:STANDARD
TZOFFSETFROM:-0500
TZOFFSETTO:-0600
TZNAME:CST
DTSTART:20241103T070000
END:STANDARD
BEGIN:DAYLIGHT
TZOFFSETFROM:-0600
TZOFFSETTO:-0500
TZNAME:CDT
DTSTART:20250309T080000
END:DAYLIGHT
BEGIN:STANDARD
TZOFFSETFROM:-0500
TZOFFSETTO:-0600
TZNAME:CST
DTSTART:20251102T070000
END:STANDARD
END:VTIMEZONE
BEGIN:VEVENT
DTSTART;TZID=America/Chicago:20241005T073000
DTEND;TZID=America/Chicago:20241005T090000
DTSTAMP:20260421T100103
CREATED:20211122T164211Z
LAST-MODIFIED:20240916T191232Z
UID:10003753-1728113400-1728118800@cedarheightsbaptist.com
SUMMARY:Men's breakfast
DESCRIPTION:Join other men for a delicious breakfast and words of encouragement. Sign up here.
URL:https://cedarheightsbaptist.com/event/mens-breakfast-10/2024-10-05/
LOCATION:Cedar Heights Baptist Church\, 2430 Neola St.\, Cedar Falls\, IA\, 50613
CATEGORIES:Adults
ATTACH;FMTTYPE=image/jpeg:https://cedarheightsbaptist.s3.amazonaws.com/wp-content/uploads/2016/06/23130554/food-breakfast-pancakes.jpg
GEO:42.5157502;-92.4132507
X-APPLE-STRUCTURED-LOCATION;VALUE=URI;X-ADDRESS=Cedar Heights Baptist Church 2430 Neola St. Cedar Falls IA 50613;X-APPLE-RADIUS=500;X-TITLE=2430 Neola St.:geo:-92.4132507,42.5157502
END:VEVENT
BEGIN:VEVENT
DTSTART;TZID=America/Chicago:20240406T073000
DTEND;TZID=America/Chicago:20240406T090000
DTSTAMP:20260421T100103
CREATED:20211122T164211Z
LAST-MODIFIED:20240916T191232Z
UID:10003752-1712388600-1712394000@cedarheightsbaptist.com
SUMMARY:Men's breakfast
DESCRIPTION:Join other men for a delicious breakfast and words of encouragement. Sign up here.
URL:https://cedarheightsbaptist.com/event/mens-breakfast-10/2024-04-06/
LOCATION:Cedar Heights Baptist Church\, 2430 Neola St.\, Cedar Falls\, IA\, 50613
CATEGORIES:Adults
ATTACH;FMTTYPE=image/jpeg:https://cedarheightsbaptist.s3.amazonaws.com/wp-content/uploads/2016/06/23130554/food-breakfast-pancakes.jpg
GEO:42.5157502;-92.4132507
X-APPLE-STRUCTURED-LOCATION;VALUE=URI;X-ADDRESS=Cedar Heights Baptist Church 2430 Neola St. Cedar Falls IA 50613;X-APPLE-RADIUS=500;X-TITLE=2430 Neola St.:geo:-92.4132507,42.5157502
END:VEVENT
BEGIN:VEVENT
DTSTART;TZID=America/Chicago:20240302T073000
DTEND;TZID=America/Chicago:20240302T090000
DTSTAMP:20260421T100103
CREATED:20211122T164211Z
LAST-MODIFIED:20240916T191232Z
UID:10003751-1709364600-1709370000@cedarheightsbaptist.com
SUMMARY:Men's breakfast
DESCRIPTION:Join other men for a delicious breakfast and words of encouragement. Sign up here.
URL:https://cedarheightsbaptist.com/event/mens-breakfast-10/2024-03-02/
LOCATION:Cedar Heights Baptist Church\, 2430 Neola St.\, Cedar Falls\, IA\, 50613
CATEGORIES:Adults
ATTACH;FMTTYPE=image/jpeg:https://cedarheightsbaptist.s3.amazonaws.com/wp-content/uploads/2016/06/23130554/food-breakfast-pancakes.jpg
GEO:42.5157502;-92.4132507
X-APPLE-STRUCTURED-LOCATION;VALUE=URI;X-ADDRESS=Cedar Heights Baptist Church 2430 Neola St. Cedar Falls IA 50613;X-APPLE-RADIUS=500;X-TITLE=2430 Neola St.:geo:-92.4132507,42.5157502
END:VEVENT
BEGIN:VEVENT
DTSTART;TZID=America/Chicago:20240203T073000
DTEND;TZID=America/Chicago:20240203T090000
DTSTAMP:20260421T100103
CREATED:20211122T164211Z
LAST-MODIFIED:20240916T191232Z
UID:10003750-1706945400-1706950800@cedarheightsbaptist.com
SUMMARY:Men's breakfast
DESCRIPTION:Join other men for a delicious breakfast and words of encouragement. Sign up here.
URL:https://cedarheightsbaptist.com/event/mens-breakfast-10/2024-02-03/
LOCATION:Cedar Heights Baptist Church\, 2430 Neola St.\, Cedar Falls\, IA\, 50613
CATEGORIES:Adults
ATTACH;FMTTYPE=image/jpeg:https://cedarheightsbaptist.s3.amazonaws.com/wp-content/uploads/2016/06/23130554/food-breakfast-pancakes.jpg
GEO:42.5157502;-92.4132507
X-APPLE-STRUCTURED-LOCATION;VALUE=URI;X-ADDRESS=Cedar Heights Baptist Church 2430 Neola St. Cedar Falls IA 50613;X-APPLE-RADIUS=500;X-TITLE=2430 Neola St.:geo:-92.4132507,42.5157502
END:VEVENT
BEGIN:VEVENT
DTSTART;TZID=America/Chicago:20240106T073000
DTEND;TZID=America/Chicago:20240106T090000
DTSTAMP:20260421T100103
CREATED:20211122T164211Z
LAST-MODIFIED:20240916T191232Z
UID:10003749-1704526200-1704531600@cedarheightsbaptist.com
SUMMARY:Men's breakfast
DESCRIPTION:Join other men for a delicious breakfast and words of encouragement. Sign up here.
URL:https://cedarheightsbaptist.com/event/mens-breakfast-10/2024-01-06/
LOCATION:Cedar Heights Baptist Church\, 2430 Neola St.\, Cedar Falls\, IA\, 50613
CATEGORIES:Adults
ATTACH;FMTTYPE=image/jpeg:https://cedarheightsbaptist.s3.amazonaws.com/wp-content/uploads/2016/06/23130554/food-breakfast-pancakes.jpg
GEO:42.5157502;-92.4132507
X-APPLE-STRUCTURED-LOCATION;VALUE=URI;X-ADDRESS=Cedar Heights Baptist Church 2430 Neola St. Cedar Falls IA 50613;X-APPLE-RADIUS=500;X-TITLE=2430 Neola St.:geo:-92.4132507,42.5157502
END:VEVENT
BEGIN:VEVENT
DTSTART;TZID=America/Chicago:20231202T073000
DTEND;TZID=America/Chicago:20231202T090000
DTSTAMP:20260421T100103
CREATED:20211122T164211Z
LAST-MODIFIED:20240916T191232Z
UID:10003748-1701502200-1701507600@cedarheightsbaptist.com
SUMMARY:Men's breakfast
DESCRIPTION:Join other men for a delicious breakfast and words of encouragement. Sign up here.
URL:https://cedarheightsbaptist.com/event/mens-breakfast-10/2023-12-02/
LOCATION:Cedar Heights Baptist Church\, 2430 Neola St.\, Cedar Falls\, IA\, 50613
CATEGORIES:Adults
ATTACH;FMTTYPE=image/jpeg:https://cedarheightsbaptist.s3.amazonaws.com/wp-content/uploads/2016/06/23130554/food-breakfast-pancakes.jpg
GEO:42.5157502;-92.4132507
X-APPLE-STRUCTURED-LOCATION;VALUE=URI;X-ADDRESS=Cedar Heights Baptist Church 2430 Neola St. Cedar Falls IA 50613;X-APPLE-RADIUS=500;X-TITLE=2430 Neola St.:geo:-92.4132507,42.5157502
END:VEVENT
BEGIN:VEVENT
DTSTART;TZID=America/Chicago:20231104T073000
DTEND;TZID=America/Chicago:20231104T090000
DTSTAMP:20260421T100103
CREATED:20211122T164211Z
LAST-MODIFIED:20240916T191232Z
UID:10003747-1699083000-1699088400@cedarheightsbaptist.com
SUMMARY:Men's breakfast
DESCRIPTION:Join other men for a delicious breakfast and words of encouragement. Sign up here.
URL:https://cedarheightsbaptist.com/event/mens-breakfast-10/2023-11-04/
LOCATION:Cedar Heights Baptist Church\, 2430 Neola St.\, Cedar Falls\, IA\, 50613
CATEGORIES:Adults
ATTACH;FMTTYPE=image/jpeg:https://cedarheightsbaptist.s3.amazonaws.com/wp-content/uploads/2016/06/23130554/food-breakfast-pancakes.jpg
GEO:42.5157502;-92.4132507
X-APPLE-STRUCTURED-LOCATION;VALUE=URI;X-ADDRESS=Cedar Heights Baptist Church 2430 Neola St. Cedar Falls IA 50613;X-APPLE-RADIUS=500;X-TITLE=2430 Neola St.:geo:-92.4132507,42.5157502
END:VEVENT
BEGIN:VEVENT
DTSTART;TZID=America/Chicago:20231014T073000
DTEND;TZID=America/Chicago:20231014T090000
DTSTAMP:20260421T100103
CREATED:20211122T164211Z
LAST-MODIFIED:20240916T191232Z
UID:10003746-1697268600-1697274000@cedarheightsbaptist.com
SUMMARY:Men's breakfast
DESCRIPTION:Join other men for a delicious breakfast and words of encouragement. Sign up here.
URL:https://cedarheightsbaptist.com/event/mens-breakfast-10/2023-10-14/
LOCATION:Cedar Heights Baptist Church\, 2430 Neola St.\, Cedar Falls\, IA\, 50613
CATEGORIES:Adults
ATTACH;FMTTYPE=image/jpeg:https://cedarheightsbaptist.s3.amazonaws.com/wp-content/uploads/2016/06/23130554/food-breakfast-pancakes.jpg
GEO:42.5157502;-92.4132507
X-APPLE-STRUCTURED-LOCATION;VALUE=URI;X-ADDRESS=Cedar Heights Baptist Church 2430 Neola St. Cedar Falls IA 50613;X-APPLE-RADIUS=500;X-TITLE=2430 Neola St.:geo:-92.4132507,42.5157502
END:VEVENT
BEGIN:VEVENT
DTSTART;TZID=America/Chicago:20230916T073000
DTEND;TZID=America/Chicago:20230916T090000
DTSTAMP:20260421T100104
CREATED:20211122T164211Z
LAST-MODIFIED:20240916T191232Z
UID:10003745-1694849400-1694854800@cedarheightsbaptist.com
SUMMARY:Men's breakfast
DESCRIPTION:Join other men for a delicious breakfast and words of encouragement. Sign up here.
URL:https://cedarheightsbaptist.com/event/mens-breakfast-10/2023-09-16/
LOCATION:Cedar Heights Baptist Church\, 2430 Neola St.\, Cedar Falls\, IA\, 50613
CATEGORIES:Adults
ATTACH;FMTTYPE=image/jpeg:https://cedarheightsbaptist.s3.amazonaws.com/wp-content/uploads/2016/06/23130554/food-breakfast-pancakes.jpg
GEO:42.5157502;-92.4132507
X-APPLE-STRUCTURED-LOCATION;VALUE=URI;X-ADDRESS=Cedar Heights Baptist Church 2430 Neola St. Cedar Falls IA 50613;X-APPLE-RADIUS=500;X-TITLE=2430 Neola St.:geo:-92.4132507,42.5157502
END:VEVENT
BEGIN:VEVENT
DTSTART;TZID=America/Chicago:20230401T073000
DTEND;TZID=America/Chicago:20230401T090000
DTSTAMP:20260421T100104
CREATED:20211122T164211Z
LAST-MODIFIED:20240916T191232Z
UID:10003744-1680334200-1680339600@cedarheightsbaptist.com
SUMMARY:Men's breakfast
DESCRIPTION:Join other men for a delicious breakfast and words of encouragement. Sign up here.
URL:https://cedarheightsbaptist.com/event/mens-breakfast-10/2023-04-01/
LOCATION:Cedar Heights Baptist Church\, 2430 Neola St.\, Cedar Falls\, IA\, 50613
CATEGORIES:Adults
ATTACH;FMTTYPE=image/jpeg:https://cedarheightsbaptist.s3.amazonaws.com/wp-content/uploads/2016/06/23130554/food-breakfast-pancakes.jpg
GEO:42.5157502;-92.4132507
X-APPLE-STRUCTURED-LOCATION;VALUE=URI;X-ADDRESS=Cedar Heights Baptist Church 2430 Neola St. Cedar Falls IA 50613;X-APPLE-RADIUS=500;X-TITLE=2430 Neola St.:geo:-92.4132507,42.5157502
END:VEVENT
BEGIN:VEVENT
DTSTART;TZID=America/Chicago:20230324T173000
DTEND;TZID=America/Chicago:20230324T213000
DTSTAMP:20260421T100104
CREATED:20230126T165008Z
LAST-MODIFIED:20230222T220245Z
UID:10004338-1679679000-1679693400@cedarheightsbaptist.com
SUMMARY:Men's hockey night
DESCRIPTION:$5 gets you pregame pizza at church and one ticket to the Waterloo Blackhawks vs Fargo Force. Sign up here. Deadline: Monday\, Feb. 15
URL:https://cedarheightsbaptist.com/event/mens-hockey-night/
CATEGORIES:Adults,Children,Student,Youth
ATTACH;FMTTYPE=image/jpeg:https://cedarheightsbaptist.s3.amazonaws.com/wp-content/uploads/2023/01/26104945/pexels-tima-miroshnichenko-6847470-1.jpg
END:VEVENT
BEGIN:VEVENT
DTSTART;TZID=America/Chicago:20230304T073000
DTEND;TZID=America/Chicago:20230304T090000
DTSTAMP:20260421T100104
CREATED:20211122T164211Z
LAST-MODIFIED:20240916T191232Z
UID:10003743-1677915000-1677920400@cedarheightsbaptist.com
SUMMARY:Men's breakfast
DESCRIPTION:Join other men for a delicious breakfast and words of encouragement. Sign up here.
URL:https://cedarheightsbaptist.com/event/mens-breakfast-10/2023-03-04/
LOCATION:Cedar Heights Baptist Church\, 2430 Neola St.\, Cedar Falls\, IA\, 50613
CATEGORIES:Adults
ATTACH;FMTTYPE=image/jpeg:https://cedarheightsbaptist.s3.amazonaws.com/wp-content/uploads/2016/06/23130554/food-breakfast-pancakes.jpg
GEO:42.5157502;-92.4132507
X-APPLE-STRUCTURED-LOCATION;VALUE=URI;X-ADDRESS=Cedar Heights Baptist Church 2430 Neola St. Cedar Falls IA 50613;X-APPLE-RADIUS=500;X-TITLE=2430 Neola St.:geo:-92.4132507,42.5157502
END:VEVENT
BEGIN:VEVENT
DTSTART;TZID=America/Chicago:20230204T073000
DTEND;TZID=America/Chicago:20230204T090000
DTSTAMP:20260421T100104
CREATED:20211122T164211Z
LAST-MODIFIED:20240916T191232Z
UID:10003742-1675495800-1675501200@cedarheightsbaptist.com
SUMMARY:Men's breakfast
DESCRIPTION:Join other men for a delicious breakfast and words of encouragement. Sign up here.
URL:https://cedarheightsbaptist.com/event/mens-breakfast-10/2023-02-04/
LOCATION:Cedar Heights Baptist Church\, 2430 Neola St.\, Cedar Falls\, IA\, 50613
CATEGORIES:Adults
ATTACH;FMTTYPE=image/jpeg:https://cedarheightsbaptist.s3.amazonaws.com/wp-content/uploads/2016/06/23130554/food-breakfast-pancakes.jpg
GEO:42.5157502;-92.4132507
X-APPLE-STRUCTURED-LOCATION;VALUE=URI;X-ADDRESS=Cedar Heights Baptist Church 2430 Neola St. Cedar Falls IA 50613;X-APPLE-RADIUS=500;X-TITLE=2430 Neola St.:geo:-92.4132507,42.5157502
END:VEVENT
BEGIN:VEVENT
DTSTART;TZID=America/Chicago:20230107T073000
DTEND;TZID=America/Chicago:20230107T090000
DTSTAMP:20260421T100104
CREATED:20211122T164211Z
LAST-MODIFIED:20240916T191232Z
UID:10003741-1673076600-1673082000@cedarheightsbaptist.com
SUMMARY:Men's breakfast
DESCRIPTION:Join other men for a delicious breakfast and words of encouragement. Sign up here.
URL:https://cedarheightsbaptist.com/event/mens-breakfast-10/2023-01-07/
LOCATION:Cedar Heights Baptist Church\, 2430 Neola St.\, Cedar Falls\, IA\, 50613
CATEGORIES:Adults
ATTACH;FMTTYPE=image/jpeg:https://cedarheightsbaptist.s3.amazonaws.com/wp-content/uploads/2016/06/23130554/food-breakfast-pancakes.jpg
GEO:42.5157502;-92.4132507
X-APPLE-STRUCTURED-LOCATION;VALUE=URI;X-ADDRESS=Cedar Heights Baptist Church 2430 Neola St. Cedar Falls IA 50613;X-APPLE-RADIUS=500;X-TITLE=2430 Neola St.:geo:-92.4132507,42.5157502
END:VEVENT
BEGIN:VEVENT
DTSTART;TZID=America/Chicago:20221203T073000
DTEND;TZID=America/Chicago:20221203T090000
DTSTAMP:20260421T100104
CREATED:20211122T164211Z
LAST-MODIFIED:20240916T191232Z
UID:10003740-1670052600-1670058000@cedarheightsbaptist.com
SUMMARY:Men's breakfast
DESCRIPTION:Join other men for a delicious breakfast and words of encouragement. Sign up here.
URL:https://cedarheightsbaptist.com/event/mens-breakfast-10/2022-12-03/
LOCATION:Cedar Heights Baptist Church\, 2430 Neola St.\, Cedar Falls\, IA\, 50613
CATEGORIES:Adults
ATTACH;FMTTYPE=image/jpeg:https://cedarheightsbaptist.s3.amazonaws.com/wp-content/uploads/2016/06/23130554/food-breakfast-pancakes.jpg
GEO:42.5157502;-92.4132507
X-APPLE-STRUCTURED-LOCATION;VALUE=URI;X-ADDRESS=Cedar Heights Baptist Church 2430 Neola St. Cedar Falls IA 50613;X-APPLE-RADIUS=500;X-TITLE=2430 Neola St.:geo:-92.4132507,42.5157502
END:VEVENT
BEGIN:VEVENT
DTSTART;TZID=America/Chicago:20221105T073000
DTEND;TZID=America/Chicago:20221105T090000
DTSTAMP:20260421T100104
CREATED:20211122T164211Z
LAST-MODIFIED:20240916T191232Z
UID:10003739-1667633400-1667638800@cedarheightsbaptist.com
SUMMARY:Men's breakfast
DESCRIPTION:Join other men for a delicious breakfast and words of encouragement. Sign up here.
URL:https://cedarheightsbaptist.com/event/mens-breakfast-10/2022-11-05/
LOCATION:Cedar Heights Baptist Church\, 2430 Neola St.\, Cedar Falls\, IA\, 50613
CATEGORIES:Adults
ATTACH;FMTTYPE=image/jpeg:https://cedarheightsbaptist.s3.amazonaws.com/wp-content/uploads/2016/06/23130554/food-breakfast-pancakes.jpg
GEO:42.5157502;-92.4132507
X-APPLE-STRUCTURED-LOCATION;VALUE=URI;X-ADDRESS=Cedar Heights Baptist Church 2430 Neola St. Cedar Falls IA 50613;X-APPLE-RADIUS=500;X-TITLE=2430 Neola St.:geo:-92.4132507,42.5157502
END:VEVENT
BEGIN:VEVENT
DTSTART;TZID=America/Chicago:20221001T103000
DTEND;TZID=America/Chicago:20221001T123000
DTSTAMP:20260421T100104
CREATED:20211122T164211Z
LAST-MODIFIED:20220922T151441Z
UID:10003799-1664620200-1664627400@cedarheightsbaptist.com
SUMMARY:Men's lunch
DESCRIPTION:Join other men for a delicious lunch and words of encouragement. Sign up here.
URL:https://cedarheightsbaptist.com/event/mens-breakfast-10-2022-10-01/
LOCATION:Cedar Heights Baptist Church\, 2430 Neola St.\, Cedar Falls\, IA\, 50613
CATEGORIES:Adults
ATTACH;FMTTYPE=image/jpeg:https://cedarheightsbaptist.s3.amazonaws.com/wp-content/uploads/2016/06/23130554/food-breakfast-pancakes.jpg
GEO:42.5157502;-92.4132507
X-APPLE-STRUCTURED-LOCATION;VALUE=URI;X-ADDRESS=Cedar Heights Baptist Church 2430 Neola St. Cedar Falls IA 50613;X-APPLE-RADIUS=500;X-TITLE=2430 Neola St.:geo:-92.4132507,42.5157502
END:VEVENT
BEGIN:VEVENT
DTSTART;TZID=America/Chicago:20220820T073000
DTEND;TZID=America/Chicago:20220820T090000
DTSTAMP:20260421T100104
CREATED:20211122T164211Z
LAST-MODIFIED:20240916T191232Z
UID:10003738-1660980600-1660986000@cedarheightsbaptist.com
SUMMARY:Men's breakfast
DESCRIPTION:Join other men for a delicious breakfast and words of encouragement. Sign up here.
URL:https://cedarheightsbaptist.com/event/mens-breakfast-10/2022-08-20/
LOCATION:Cedar Heights Baptist Church\, 2430 Neola St.\, Cedar Falls\, IA\, 50613
CATEGORIES:Adults
ATTACH;FMTTYPE=image/jpeg:https://cedarheightsbaptist.s3.amazonaws.com/wp-content/uploads/2016/06/23130554/food-breakfast-pancakes.jpg
GEO:42.5157502;-92.4132507
X-APPLE-STRUCTURED-LOCATION;VALUE=URI;X-ADDRESS=Cedar Heights Baptist Church 2430 Neola St. Cedar Falls IA 50613;X-APPLE-RADIUS=500;X-TITLE=2430 Neola St.:geo:-92.4132507,42.5157502
END:VEVENT
END:VCALENDAR