BEGIN:VCALENDAR
VERSION:2.0
PRODID:-//Cedar Heights Baptist Church - ECPv6.15.20//NONSGML v1.0//EN
CALSCALE:GREGORIAN
METHOD:PUBLISH
X-ORIGINAL-URL:https://cedarheightsbaptist.com
X-WR-CALDESC:Events for Cedar Heights Baptist Church
REFRESH-INTERVAL;VALUE=DURATION:PT1H
X-Robots-Tag:noindex
X-PUBLISHED-TTL:PT1H
BEGIN:VTIMEZONE
TZID:America/Chicago
BEGIN:DAYLIGHT
TZOFFSETFROM:-0600
TZOFFSETTO:-0500
TZNAME:CDT
DTSTART:20160313T080000
END:DAYLIGHT
BEGIN:STANDARD
TZOFFSETFROM:-0500
TZOFFSETTO:-0600
TZNAME:CST
DTSTART:20161106T070000
END:STANDARD
BEGIN:DAYLIGHT
TZOFFSETFROM:-0600
TZOFFSETTO:-0500
TZNAME:CDT
DTSTART:20170312T080000
END:DAYLIGHT
BEGIN:STANDARD
TZOFFSETFROM:-0500
TZOFFSETTO:-0600
TZNAME:CST
DTSTART:20171105T070000
END:STANDARD
BEGIN:DAYLIGHT
TZOFFSETFROM:-0600
TZOFFSETTO:-0500
TZNAME:CDT
DTSTART:20180311T080000
END:DAYLIGHT
BEGIN:STANDARD
TZOFFSETFROM:-0500
TZOFFSETTO:-0600
TZNAME:CST
DTSTART:20181104T070000
END:STANDARD
END:VTIMEZONE
BEGIN:VEVENT
DTSTART;TZID=America/Chicago:20171026T190000
DTEND;TZID=America/Chicago:20171026T203000
DTSTAMP:20260421T224546
CREATED:20170816T191237Z
LAST-MODIFIED:20170816T191700Z
UID:10000856-1509044400-1509049800@cedarheightsbaptist.com
SUMMARY:Women's Ministry: "Praying the Bible" Study (Thursday Evening)
DESCRIPTION:Ladies\, please join us as we study Praying the Bible by Donald S. Whitney. Here is some information about the book: \n  \n“Do you ever feel like you’re just saying the same old things about the same old things? \n  \nOffering us the encouragement and the practical advice we’re all looking for\, Donald S. Whitney\, best-selling author of Spiritual Disciplines for the Christian Life\, outlines an easy-to-grasp method that has the power to transform our prayer life: praying the words of Scripture. Simple\, yet profound\, Praying the Bible will prove invaluable as you seek to commune with your heavenly Father in prayer each and every day.” \n  \nNo child care is provided. Books are $5. Sign up in the church foyer or by contacting the study leader\, Candace Buskohl.
URL:https://cedarheightsbaptist.com/event/womens-ministry-praying-bible-study-thursday-evening/2017-10-26/
LOCATION:Buskohls’ home
CATEGORIES:Adults
ATTACH;FMTTYPE=image/jpeg:https://cedarheightsbaptist.s3.amazonaws.com/wp-content/uploads/2017/08/23130326/prayer_hands.jpg
END:VEVENT
BEGIN:VEVENT
DTSTART;TZID=America/Chicago:20171019T190000
DTEND;TZID=America/Chicago:20171019T203000
DTSTAMP:20260421T224546
CREATED:20170816T191237Z
LAST-MODIFIED:20170816T191700Z
UID:10000855-1508439600-1508445000@cedarheightsbaptist.com
SUMMARY:Women's Ministry: "Praying the Bible" Study (Thursday Evening)
DESCRIPTION:Ladies\, please join us as we study Praying the Bible by Donald S. Whitney. Here is some information about the book: \n  \n“Do you ever feel like you’re just saying the same old things about the same old things? \n  \nOffering us the encouragement and the practical advice we’re all looking for\, Donald S. Whitney\, best-selling author of Spiritual Disciplines for the Christian Life\, outlines an easy-to-grasp method that has the power to transform our prayer life: praying the words of Scripture. Simple\, yet profound\, Praying the Bible will prove invaluable as you seek to commune with your heavenly Father in prayer each and every day.” \n  \nNo child care is provided. Books are $5. Sign up in the church foyer or by contacting the study leader\, Candace Buskohl.
URL:https://cedarheightsbaptist.com/event/womens-ministry-praying-bible-study-thursday-evening/2017-10-19/
LOCATION:Buskohls’ home
CATEGORIES:Adults
ATTACH;FMTTYPE=image/jpeg:https://cedarheightsbaptist.s3.amazonaws.com/wp-content/uploads/2017/08/23130326/prayer_hands.jpg
END:VEVENT
BEGIN:VEVENT
DTSTART;TZID=America/Chicago:20171012T190000
DTEND;TZID=America/Chicago:20171012T203000
DTSTAMP:20260421T224546
CREATED:20170816T191237Z
LAST-MODIFIED:20170816T191700Z
UID:10000854-1507834800-1507840200@cedarheightsbaptist.com
SUMMARY:Women's Ministry: "Praying the Bible" Study (Thursday Evening)
DESCRIPTION:Ladies\, please join us as we study Praying the Bible by Donald S. Whitney. Here is some information about the book: \n  \n“Do you ever feel like you’re just saying the same old things about the same old things? \n  \nOffering us the encouragement and the practical advice we’re all looking for\, Donald S. Whitney\, best-selling author of Spiritual Disciplines for the Christian Life\, outlines an easy-to-grasp method that has the power to transform our prayer life: praying the words of Scripture. Simple\, yet profound\, Praying the Bible will prove invaluable as you seek to commune with your heavenly Father in prayer each and every day.” \n  \nNo child care is provided. Books are $5. Sign up in the church foyer or by contacting the study leader\, Candace Buskohl.
URL:https://cedarheightsbaptist.com/event/womens-ministry-praying-bible-study-thursday-evening/2017-10-12/
LOCATION:Buskohls’ home
CATEGORIES:Adults
ATTACH;FMTTYPE=image/jpeg:https://cedarheightsbaptist.s3.amazonaws.com/wp-content/uploads/2017/08/23130326/prayer_hands.jpg
END:VEVENT
BEGIN:VEVENT
DTSTART;TZID=America/Chicago:20171005T190000
DTEND;TZID=America/Chicago:20171005T203000
DTSTAMP:20260421T224546
CREATED:20170816T191237Z
LAST-MODIFIED:20170816T191700Z
UID:10000853-1507230000-1507235400@cedarheightsbaptist.com
SUMMARY:Women's Ministry: "Praying the Bible" Study (Thursday Evening)
DESCRIPTION:Ladies\, please join us as we study Praying the Bible by Donald S. Whitney. Here is some information about the book: \n  \n“Do you ever feel like you’re just saying the same old things about the same old things? \n  \nOffering us the encouragement and the practical advice we’re all looking for\, Donald S. Whitney\, best-selling author of Spiritual Disciplines for the Christian Life\, outlines an easy-to-grasp method that has the power to transform our prayer life: praying the words of Scripture. Simple\, yet profound\, Praying the Bible will prove invaluable as you seek to commune with your heavenly Father in prayer each and every day.” \n  \nNo child care is provided. Books are $5. Sign up in the church foyer or by contacting the study leader\, Candace Buskohl.
URL:https://cedarheightsbaptist.com/event/womens-ministry-praying-bible-study-thursday-evening/2017-10-05/
LOCATION:Buskohls’ home
CATEGORIES:Adults
ATTACH;FMTTYPE=image/jpeg:https://cedarheightsbaptist.s3.amazonaws.com/wp-content/uploads/2017/08/23130326/prayer_hands.jpg
END:VEVENT
BEGIN:VEVENT
DTSTART;TZID=America/Chicago:20170928T190000
DTEND;TZID=America/Chicago:20170928T203000
DTSTAMP:20260421T224546
CREATED:20170816T191237Z
LAST-MODIFIED:20170816T191700Z
UID:10000852-1506625200-1506630600@cedarheightsbaptist.com
SUMMARY:Women's Ministry: "Praying the Bible" Study (Thursday Evening)
DESCRIPTION:Ladies\, please join us as we study Praying the Bible by Donald S. Whitney. Here is some information about the book: \n  \n“Do you ever feel like you’re just saying the same old things about the same old things? \n  \nOffering us the encouragement and the practical advice we’re all looking for\, Donald S. Whitney\, best-selling author of Spiritual Disciplines for the Christian Life\, outlines an easy-to-grasp method that has the power to transform our prayer life: praying the words of Scripture. Simple\, yet profound\, Praying the Bible will prove invaluable as you seek to commune with your heavenly Father in prayer each and every day.” \n  \nNo child care is provided. Books are $5. Sign up in the church foyer or by contacting the study leader\, Candace Buskohl.
URL:https://cedarheightsbaptist.com/event/womens-ministry-praying-bible-study-thursday-evening/2017-09-28/
LOCATION:Buskohls’ home
CATEGORIES:Adults
ATTACH;FMTTYPE=image/jpeg:https://cedarheightsbaptist.s3.amazonaws.com/wp-content/uploads/2017/08/23130326/prayer_hands.jpg
END:VEVENT
BEGIN:VEVENT
DTSTART;TZID=America/Chicago:20170921T190000
DTEND;TZID=America/Chicago:20170921T203000
DTSTAMP:20260421T224546
CREATED:20170816T191237Z
LAST-MODIFIED:20170816T191700Z
UID:10000851-1506020400-1506025800@cedarheightsbaptist.com
SUMMARY:Women's Ministry: "Praying the Bible" Study (Thursday Evening)
DESCRIPTION:Ladies\, please join us as we study Praying the Bible by Donald S. Whitney. Here is some information about the book: \n  \n“Do you ever feel like you’re just saying the same old things about the same old things? \n  \nOffering us the encouragement and the practical advice we’re all looking for\, Donald S. Whitney\, best-selling author of Spiritual Disciplines for the Christian Life\, outlines an easy-to-grasp method that has the power to transform our prayer life: praying the words of Scripture. Simple\, yet profound\, Praying the Bible will prove invaluable as you seek to commune with your heavenly Father in prayer each and every day.” \n  \nNo child care is provided. Books are $5. Sign up in the church foyer or by contacting the study leader\, Candace Buskohl.
URL:https://cedarheightsbaptist.com/event/womens-ministry-praying-bible-study-thursday-evening/2017-09-21/
LOCATION:Buskohls’ home
CATEGORIES:Adults
ATTACH;FMTTYPE=image/jpeg:https://cedarheightsbaptist.s3.amazonaws.com/wp-content/uploads/2017/08/23130326/prayer_hands.jpg
END:VEVENT
END:VCALENDAR