BEGIN:VCALENDAR
VERSION:2.0
PRODID:-//Cedar Heights Baptist Church - ECPv6.15.20//NONSGML v1.0//EN
CALSCALE:GREGORIAN
METHOD:PUBLISH
X-ORIGINAL-URL:https://cedarheightsbaptist.com
X-WR-CALDESC:Events for Cedar Heights Baptist Church
REFRESH-INTERVAL;VALUE=DURATION:PT1H
X-Robots-Tag:noindex
X-PUBLISHED-TTL:PT1H
BEGIN:VTIMEZONE
TZID:America/Chicago
BEGIN:DAYLIGHT
TZOFFSETFROM:-0600
TZOFFSETTO:-0500
TZNAME:CDT
DTSTART:20150308T080000
END:DAYLIGHT
BEGIN:STANDARD
TZOFFSETFROM:-0500
TZOFFSETTO:-0600
TZNAME:CST
DTSTART:20151101T070000
END:STANDARD
BEGIN:DAYLIGHT
TZOFFSETFROM:-0600
TZOFFSETTO:-0500
TZNAME:CDT
DTSTART:20160313T080000
END:DAYLIGHT
BEGIN:STANDARD
TZOFFSETFROM:-0500
TZOFFSETTO:-0600
TZNAME:CST
DTSTART:20161106T070000
END:STANDARD
BEGIN:DAYLIGHT
TZOFFSETFROM:-0600
TZOFFSETTO:-0500
TZNAME:CDT
DTSTART:20170312T080000
END:DAYLIGHT
BEGIN:STANDARD
TZOFFSETFROM:-0500
TZOFFSETTO:-0600
TZNAME:CST
DTSTART:20171105T070000
END:STANDARD
BEGIN:DAYLIGHT
TZOFFSETFROM:-0600
TZOFFSETTO:-0500
TZNAME:CDT
DTSTART:20180311T080000
END:DAYLIGHT
BEGIN:STANDARD
TZOFFSETFROM:-0500
TZOFFSETTO:-0600
TZNAME:CST
DTSTART:20181104T070000
END:STANDARD
BEGIN:DAYLIGHT
TZOFFSETFROM:-0600
TZOFFSETTO:-0500
TZNAME:CDT
DTSTART:20190310T080000
END:DAYLIGHT
BEGIN:STANDARD
TZOFFSETFROM:-0500
TZOFFSETTO:-0600
TZNAME:CST
DTSTART:20191103T070000
END:STANDARD
BEGIN:DAYLIGHT
TZOFFSETFROM:-0600
TZOFFSETTO:-0500
TZNAME:CDT
DTSTART:20200308T080000
END:DAYLIGHT
BEGIN:STANDARD
TZOFFSETFROM:-0500
TZOFFSETTO:-0600
TZNAME:CST
DTSTART:20201101T070000
END:STANDARD
BEGIN:DAYLIGHT
TZOFFSETFROM:-0600
TZOFFSETTO:-0500
TZNAME:CDT
DTSTART:20210314T080000
END:DAYLIGHT
BEGIN:STANDARD
TZOFFSETFROM:-0500
TZOFFSETTO:-0600
TZNAME:CST
DTSTART:20211107T070000
END:STANDARD
BEGIN:DAYLIGHT
TZOFFSETFROM:-0600
TZOFFSETTO:-0500
TZNAME:CDT
DTSTART:20220313T080000
END:DAYLIGHT
BEGIN:STANDARD
TZOFFSETFROM:-0500
TZOFFSETTO:-0600
TZNAME:CST
DTSTART:20221106T070000
END:STANDARD
BEGIN:DAYLIGHT
TZOFFSETFROM:-0600
TZOFFSETTO:-0500
TZNAME:CDT
DTSTART:20230312T080000
END:DAYLIGHT
BEGIN:STANDARD
TZOFFSETFROM:-0500
TZOFFSETTO:-0600
TZNAME:CST
DTSTART:20231105T070000
END:STANDARD
BEGIN:DAYLIGHT
TZOFFSETFROM:-0600
TZOFFSETTO:-0500
TZNAME:CDT
DTSTART:20240310T080000
END:DAYLIGHT
BEGIN:STANDARD
TZOFFSETFROM:-0500
TZOFFSETTO:-0600
TZNAME:CST
DTSTART:20241103T070000
END:STANDARD
END:VTIMEZONE
BEGIN:VEVENT
DTSTART;TZID=America/Chicago:20230622T190000
DTEND;TZID=America/Chicago:20230622T210000
DTSTAMP:20260422T094605
CREATED:20230503T131208Z
LAST-MODIFIED:20230503T131208Z
UID:10004362-1687460400-1687467600@cedarheightsbaptist.com
SUMMARY:Titus 2 Evening: The impact of foster care and adoption
DESCRIPTION:Come hear from women in the church who have fostered\, fostered to adopt\, or adopted.
URL:https://cedarheightsbaptist.com/event/titus-2-evening-the-impact-of-foster-care-and-adoption/
LOCATION:Campus House Cafe\, 2106 Campus Street\, Cedar Falls\, IA\, 50613
CATEGORIES:Adults
ATTACH;FMTTYPE=image/jpeg:https://cedarheightsbaptist.s3.amazonaws.com/wp-content/uploads/2023/05/03081152/mother_daughter-scaled.jpg
GEO:42.5188393;-92.4605882
X-APPLE-STRUCTURED-LOCATION;VALUE=URI;X-ADDRESS=Campus House Cafe 2106 Campus Street Cedar Falls IA 50613;X-APPLE-RADIUS=500;X-TITLE=2106 Campus Street:geo:-92.4605882,42.5188393
END:VEVENT
BEGIN:VEVENT
DTSTART;TZID=America/Chicago:20170205T163000
DTEND;TZID=America/Chicago:20170205T220000
DTSTAMP:20260422T094605
CREATED:20170202T151447Z
LAST-MODIFIED:20170202T152132Z
UID:10000760-1486312200-1486332000@cedarheightsbaptist.com
SUMMARY:Young Adult/Post-College Big Game Party
DESCRIPTION:We invite young adults/post-college folks to join us for a party while watching the big game at the Campus House. We will provide chili dogs\, tacos and snacks.
URL:https://cedarheightsbaptist.com/event/young-adultpost-college-big-game-party/
LOCATION:Campus House Cafe\, 2106 Campus Street\, Cedar Falls\, IA\, 50613
CATEGORIES:Adults
GEO:42.5188393;-92.4605882
X-APPLE-STRUCTURED-LOCATION;VALUE=URI;X-ADDRESS=Campus House Cafe 2106 Campus Street Cedar Falls IA 50613;X-APPLE-RADIUS=500;X-TITLE=2106 Campus Street:geo:-92.4605882,42.5188393
END:VEVENT
BEGIN:VEVENT
DTSTART;TZID=America/Chicago:20161105T090000
DTEND;TZID=America/Chicago:20161105T120000
DTSTAMP:20260422T094605
CREATED:20161012T195922Z
LAST-MODIFIED:20161104T144704Z
UID:10000266-1478336400-1478347200@cedarheightsbaptist.com
SUMMARY:Ladies' Brunch and Morning Workshop: "Sharing Your Faith in Your Everyday World"
DESCRIPTION:Ladies\, join us at the Campus House\, 2016 Campus Street\, for a morning of food\, fellowship and encouragement. Janice Hewitt\, Dani Christensen\, Julia Dawkins\, and Debbie Bell will share tools they have seen God use to open doors for the gospel. Our desire for this event is that we will learn from one another and be able to pray more effectively for one another as we each seek to obey the great commission and make disciples.
URL:https://cedarheightsbaptist.com/event/ladies-brunch-workshop/
LOCATION:Campus House Cafe\, 2106 Campus Street\, Cedar Falls\, IA\, 50613
CATEGORIES:Adults
GEO:42.5188393;-92.4605882
X-APPLE-STRUCTURED-LOCATION;VALUE=URI;X-ADDRESS=Campus House Cafe 2106 Campus Street Cedar Falls IA 50613;X-APPLE-RADIUS=500;X-TITLE=2106 Campus Street:geo:-92.4605882,42.5188393
END:VEVENT
END:VCALENDAR