BEGIN:VCALENDAR
VERSION:2.0
PRODID:-//Cedar Heights Baptist Church - ECPv6.15.20//NONSGML v1.0//EN
CALSCALE:GREGORIAN
METHOD:PUBLISH
X-ORIGINAL-URL:https://cedarheightsbaptist.com
X-WR-CALDESC:Events for Cedar Heights Baptist Church
REFRESH-INTERVAL;VALUE=DURATION:PT1H
X-Robots-Tag:noindex
X-PUBLISHED-TTL:PT1H
BEGIN:VTIMEZONE
TZID:America/Chicago
BEGIN:DAYLIGHT
TZOFFSETFROM:-0600
TZOFFSETTO:-0500
TZNAME:CDT
DTSTART:20250309T080000
END:DAYLIGHT
BEGIN:STANDARD
TZOFFSETFROM:-0500
TZOFFSETTO:-0600
TZNAME:CST
DTSTART:20251102T070000
END:STANDARD
BEGIN:DAYLIGHT
TZOFFSETFROM:-0600
TZOFFSETTO:-0500
TZNAME:CDT
DTSTART:20260308T080000
END:DAYLIGHT
BEGIN:STANDARD
TZOFFSETFROM:-0500
TZOFFSETTO:-0600
TZNAME:CST
DTSTART:20261101T070000
END:STANDARD
BEGIN:DAYLIGHT
TZOFFSETFROM:-0600
TZOFFSETTO:-0500
TZNAME:CDT
DTSTART:20270314T080000
END:DAYLIGHT
BEGIN:STANDARD
TZOFFSETFROM:-0500
TZOFFSETTO:-0600
TZNAME:CST
DTSTART:20271107T070000
END:STANDARD
END:VTIMEZONE
BEGIN:VEVENT
DTSTART;TZID=America/Chicago:20260510T084500
DTEND;TZID=America/Chicago:20260510T100000
DTSTAMP:20260425T054121
CREATED:20250725T145503Z
LAST-MODIFIED:20251030T162903Z
UID:10004782-1778402700-1778407200@cedarheightsbaptist.com
SUMMARY:Worship Service
DESCRIPTION:We would love for you to join us as we worship together! We also livestream the service on our YouTube channel.
URL:https://cedarheightsbaptist.com/event/worship-service-2/2026-05-10/
LOCATION:Cedar Heights Baptist Church\, 2430 Neola St.\, Cedar Falls\, IA\, 50613
CATEGORIES:Adults,Children,Student,Youth
ATTACH;FMTTYPE=image/jpeg:https://cedarheightsbaptist.s3.amazonaws.com/wp-content/uploads/2016/03/23130638/lightstock_233968_full_megan.jpg
GEO:42.5157502;-92.4132507
X-APPLE-STRUCTURED-LOCATION;VALUE=URI;X-ADDRESS=Cedar Heights Baptist Church 2430 Neola St. Cedar Falls IA 50613;X-APPLE-RADIUS=500;X-TITLE=2430 Neola St.:geo:-92.4132507,42.5157502
END:VEVENT
BEGIN:VEVENT
DTSTART;TZID=America/Chicago:20260510T101500
DTEND;TZID=America/Chicago:20260510T110000
DTSTAMP:20260425T054121
CREATED:20240307T165425Z
LAST-MODIFIED:20260302T151912Z
UID:10004418-1778408100-1778410800@cedarheightsbaptist.com
SUMMARY:Sunday school
DESCRIPTION:Join us as we gather together to study God’s Word.
URL:https://cedarheightsbaptist.com/event/sunday-school-2/2026-05-10/
LOCATION:Cedar Heights Baptist Church\, 2430 Neola St.\, Cedar Falls\, IA\, 50613
CATEGORIES:Adults,Children,Student,Youth
ATTACH;FMTTYPE=image/jpeg:https://cedarheightsbaptist.s3.amazonaws.com/wp-content/uploads/2016/03/23130646/lightstock_322583_download_medium_megan_.jpg
GEO:42.5157502;-92.4132507
X-APPLE-STRUCTURED-LOCATION;VALUE=URI;X-ADDRESS=Cedar Heights Baptist Church 2430 Neola St. Cedar Falls IA 50613;X-APPLE-RADIUS=500;X-TITLE=2430 Neola St.:geo:-92.4132507,42.5157502
END:VEVENT
BEGIN:VEVENT
DTSTART;TZID=America/Chicago:20260510T111500
DTEND;TZID=America/Chicago:20260510T123000
DTSTAMP:20260425T054121
CREATED:20260216T164101Z
LAST-MODIFIED:20260216T164101Z
UID:10004859-1778411700-1778416200@cedarheightsbaptist.com
SUMMARY:Worship Service
DESCRIPTION:We would love for you to join us as we worship together! We also livestream the service on our YouTube channel.
URL:https://cedarheightsbaptist.com/event/worship-service-2/2026-05-10/
LOCATION:Cedar Heights Baptist Church\, 2430 Neola St.\, Cedar Falls\, IA\, 50613
CATEGORIES:Adults,Children,Student,Youth
ATTACH;FMTTYPE=image/jpeg:https://cedarheightsbaptist.s3.amazonaws.com/wp-content/uploads/2016/03/23130638/lightstock_233968_full_megan.jpg
GEO:42.5157502;-92.4132507
X-APPLE-STRUCTURED-LOCATION;VALUE=URI;X-ADDRESS=Cedar Heights Baptist Church 2430 Neola St. Cedar Falls IA 50613;X-APPLE-RADIUS=500;X-TITLE=2430 Neola St.:geo:-92.4132507,42.5157502
END:VEVENT
BEGIN:VEVENT
DTSTART;TZID=America/Chicago:20260517T084500
DTEND;TZID=America/Chicago:20260517T100000
DTSTAMP:20260425T054121
CREATED:20250725T145503Z
LAST-MODIFIED:20251030T162903Z
UID:10004783-1779007500-1779012000@cedarheightsbaptist.com
SUMMARY:Worship Service
DESCRIPTION:We would love for you to join us as we worship together! We also livestream the service on our YouTube channel.
URL:https://cedarheightsbaptist.com/event/worship-service-2/2026-05-17/
LOCATION:Cedar Heights Baptist Church\, 2430 Neola St.\, Cedar Falls\, IA\, 50613
CATEGORIES:Adults,Children,Student,Youth
ATTACH;FMTTYPE=image/jpeg:https://cedarheightsbaptist.s3.amazonaws.com/wp-content/uploads/2016/03/23130638/lightstock_233968_full_megan.jpg
GEO:42.5157502;-92.4132507
X-APPLE-STRUCTURED-LOCATION;VALUE=URI;X-ADDRESS=Cedar Heights Baptist Church 2430 Neola St. Cedar Falls IA 50613;X-APPLE-RADIUS=500;X-TITLE=2430 Neola St.:geo:-92.4132507,42.5157502
END:VEVENT
BEGIN:VEVENT
DTSTART;TZID=America/Chicago:20260517T101500
DTEND;TZID=America/Chicago:20260517T110000
DTSTAMP:20260425T054121
CREATED:20240307T165425Z
LAST-MODIFIED:20260302T151912Z
UID:10004419-1779012900-1779015600@cedarheightsbaptist.com
SUMMARY:Sunday school
DESCRIPTION:Join us as we gather together to study God’s Word.
URL:https://cedarheightsbaptist.com/event/sunday-school-2/2026-05-17/
LOCATION:Cedar Heights Baptist Church\, 2430 Neola St.\, Cedar Falls\, IA\, 50613
CATEGORIES:Adults,Children,Student,Youth
ATTACH;FMTTYPE=image/jpeg:https://cedarheightsbaptist.s3.amazonaws.com/wp-content/uploads/2016/03/23130646/lightstock_322583_download_medium_megan_.jpg
GEO:42.5157502;-92.4132507
X-APPLE-STRUCTURED-LOCATION;VALUE=URI;X-ADDRESS=Cedar Heights Baptist Church 2430 Neola St. Cedar Falls IA 50613;X-APPLE-RADIUS=500;X-TITLE=2430 Neola St.:geo:-92.4132507,42.5157502
END:VEVENT
BEGIN:VEVENT
DTSTART;TZID=America/Chicago:20260517T111500
DTEND;TZID=America/Chicago:20260517T123000
DTSTAMP:20260425T054121
CREATED:20260216T164101Z
LAST-MODIFIED:20260216T164101Z
UID:10004860-1779016500-1779021000@cedarheightsbaptist.com
SUMMARY:Worship Service
DESCRIPTION:We would love for you to join us as we worship together! We also livestream the service on our YouTube channel.
URL:https://cedarheightsbaptist.com/event/worship-service-2/2026-05-17/
LOCATION:Cedar Heights Baptist Church\, 2430 Neola St.\, Cedar Falls\, IA\, 50613
CATEGORIES:Adults,Children,Student,Youth
ATTACH;FMTTYPE=image/jpeg:https://cedarheightsbaptist.s3.amazonaws.com/wp-content/uploads/2016/03/23130638/lightstock_233968_full_megan.jpg
GEO:42.5157502;-92.4132507
X-APPLE-STRUCTURED-LOCATION;VALUE=URI;X-ADDRESS=Cedar Heights Baptist Church 2430 Neola St. Cedar Falls IA 50613;X-APPLE-RADIUS=500;X-TITLE=2430 Neola St.:geo:-92.4132507,42.5157502
END:VEVENT
BEGIN:VEVENT
DTSTART;TZID=America/Chicago:20260524T084500
DTEND;TZID=America/Chicago:20260524T100000
DTSTAMP:20260425T054121
CREATED:20250725T145503Z
LAST-MODIFIED:20251030T162903Z
UID:10004784-1779612300-1779616800@cedarheightsbaptist.com
SUMMARY:Worship Service
DESCRIPTION:We would love for you to join us as we worship together! We also livestream the service on our YouTube channel.
URL:https://cedarheightsbaptist.com/event/worship-service-2/2026-05-24/
LOCATION:Cedar Heights Baptist Church\, 2430 Neola St.\, Cedar Falls\, IA\, 50613
CATEGORIES:Adults,Children,Student,Youth
ATTACH;FMTTYPE=image/jpeg:https://cedarheightsbaptist.s3.amazonaws.com/wp-content/uploads/2016/03/23130638/lightstock_233968_full_megan.jpg
GEO:42.5157502;-92.4132507
X-APPLE-STRUCTURED-LOCATION;VALUE=URI;X-ADDRESS=Cedar Heights Baptist Church 2430 Neola St. Cedar Falls IA 50613;X-APPLE-RADIUS=500;X-TITLE=2430 Neola St.:geo:-92.4132507,42.5157502
END:VEVENT
BEGIN:VEVENT
DTSTART;TZID=America/Chicago:20260524T101500
DTEND;TZID=America/Chicago:20260524T110000
DTSTAMP:20260425T054121
CREATED:20240307T165425Z
LAST-MODIFIED:20260302T151912Z
UID:10004420-1779617700-1779620400@cedarheightsbaptist.com
SUMMARY:Sunday school
DESCRIPTION:Join us as we gather together to study God’s Word.
URL:https://cedarheightsbaptist.com/event/sunday-school-2/2026-05-24/
LOCATION:Cedar Heights Baptist Church\, 2430 Neola St.\, Cedar Falls\, IA\, 50613
CATEGORIES:Adults,Children,Student,Youth
ATTACH;FMTTYPE=image/jpeg:https://cedarheightsbaptist.s3.amazonaws.com/wp-content/uploads/2016/03/23130646/lightstock_322583_download_medium_megan_.jpg
GEO:42.5157502;-92.4132507
X-APPLE-STRUCTURED-LOCATION;VALUE=URI;X-ADDRESS=Cedar Heights Baptist Church 2430 Neola St. Cedar Falls IA 50613;X-APPLE-RADIUS=500;X-TITLE=2430 Neola St.:geo:-92.4132507,42.5157502
END:VEVENT
BEGIN:VEVENT
DTSTART;TZID=America/Chicago:20260524T111500
DTEND;TZID=America/Chicago:20260524T123000
DTSTAMP:20260425T054121
CREATED:20260216T164101Z
LAST-MODIFIED:20260216T164101Z
UID:10004861-1779621300-1779625800@cedarheightsbaptist.com
SUMMARY:Worship Service
DESCRIPTION:We would love for you to join us as we worship together! We also livestream the service on our YouTube channel.
URL:https://cedarheightsbaptist.com/event/worship-service-2/2026-05-24/
LOCATION:Cedar Heights Baptist Church\, 2430 Neola St.\, Cedar Falls\, IA\, 50613
CATEGORIES:Adults,Children,Student,Youth
ATTACH;FMTTYPE=image/jpeg:https://cedarheightsbaptist.s3.amazonaws.com/wp-content/uploads/2016/03/23130638/lightstock_233968_full_megan.jpg
GEO:42.5157502;-92.4132507
X-APPLE-STRUCTURED-LOCATION;VALUE=URI;X-ADDRESS=Cedar Heights Baptist Church 2430 Neola St. Cedar Falls IA 50613;X-APPLE-RADIUS=500;X-TITLE=2430 Neola St.:geo:-92.4132507,42.5157502
END:VEVENT
BEGIN:VEVENT
DTSTART;TZID=America/Chicago:20260531T084500
DTEND;TZID=America/Chicago:20260531T100000
DTSTAMP:20260425T054121
CREATED:20250725T145503Z
LAST-MODIFIED:20251030T162903Z
UID:10004785-1780217100-1780221600@cedarheightsbaptist.com
SUMMARY:Worship Service
DESCRIPTION:We would love for you to join us as we worship together! We also livestream the service on our YouTube channel.
URL:https://cedarheightsbaptist.com/event/worship-service-2/2026-05-31/
LOCATION:Cedar Heights Baptist Church\, 2430 Neola St.\, Cedar Falls\, IA\, 50613
CATEGORIES:Adults,Children,Student,Youth
ATTACH;FMTTYPE=image/jpeg:https://cedarheightsbaptist.s3.amazonaws.com/wp-content/uploads/2016/03/23130638/lightstock_233968_full_megan.jpg
GEO:42.5157502;-92.4132507
X-APPLE-STRUCTURED-LOCATION;VALUE=URI;X-ADDRESS=Cedar Heights Baptist Church 2430 Neola St. Cedar Falls IA 50613;X-APPLE-RADIUS=500;X-TITLE=2430 Neola St.:geo:-92.4132507,42.5157502
END:VEVENT
BEGIN:VEVENT
DTSTART;TZID=America/Chicago:20260531T101500
DTEND;TZID=America/Chicago:20260531T110000
DTSTAMP:20260425T054121
CREATED:20240307T165425Z
LAST-MODIFIED:20260302T151912Z
UID:10004421-1780222500-1780225200@cedarheightsbaptist.com
SUMMARY:Sunday school
DESCRIPTION:Join us as we gather together to study God’s Word.
URL:https://cedarheightsbaptist.com/event/sunday-school-2/2026-05-31/
LOCATION:Cedar Heights Baptist Church\, 2430 Neola St.\, Cedar Falls\, IA\, 50613
CATEGORIES:Adults,Children,Student,Youth
ATTACH;FMTTYPE=image/jpeg:https://cedarheightsbaptist.s3.amazonaws.com/wp-content/uploads/2016/03/23130646/lightstock_322583_download_medium_megan_.jpg
GEO:42.5157502;-92.4132507
X-APPLE-STRUCTURED-LOCATION;VALUE=URI;X-ADDRESS=Cedar Heights Baptist Church 2430 Neola St. Cedar Falls IA 50613;X-APPLE-RADIUS=500;X-TITLE=2430 Neola St.:geo:-92.4132507,42.5157502
END:VEVENT
BEGIN:VEVENT
DTSTART;TZID=America/Chicago:20260531T111500
DTEND;TZID=America/Chicago:20260531T123000
DTSTAMP:20260425T054121
CREATED:20260216T164101Z
LAST-MODIFIED:20260216T164101Z
UID:10004862-1780226100-1780230600@cedarheightsbaptist.com
SUMMARY:Worship Service
DESCRIPTION:We would love for you to join us as we worship together! We also livestream the service on our YouTube channel.
URL:https://cedarheightsbaptist.com/event/worship-service-2/2026-05-31/
LOCATION:Cedar Heights Baptist Church\, 2430 Neola St.\, Cedar Falls\, IA\, 50613
CATEGORIES:Adults,Children,Student,Youth
ATTACH;FMTTYPE=image/jpeg:https://cedarheightsbaptist.s3.amazonaws.com/wp-content/uploads/2016/03/23130638/lightstock_233968_full_megan.jpg
GEO:42.5157502;-92.4132507
X-APPLE-STRUCTURED-LOCATION;VALUE=URI;X-ADDRESS=Cedar Heights Baptist Church 2430 Neola St. Cedar Falls IA 50613;X-APPLE-RADIUS=500;X-TITLE=2430 Neola St.:geo:-92.4132507,42.5157502
END:VEVENT
BEGIN:VEVENT
DTSTART;TZID=America/Chicago:20260607T084500
DTEND;TZID=America/Chicago:20260607T100000
DTSTAMP:20260425T054121
CREATED:20250725T145503Z
LAST-MODIFIED:20251030T162903Z
UID:10004786-1780821900-1780826400@cedarheightsbaptist.com
SUMMARY:Worship Service
DESCRIPTION:We would love for you to join us as we worship together! We also livestream the service on our YouTube channel.
URL:https://cedarheightsbaptist.com/event/worship-service-2/2026-06-07/
LOCATION:Cedar Heights Baptist Church\, 2430 Neola St.\, Cedar Falls\, IA\, 50613
CATEGORIES:Adults,Children,Student,Youth
ATTACH;FMTTYPE=image/jpeg:https://cedarheightsbaptist.s3.amazonaws.com/wp-content/uploads/2016/03/23130638/lightstock_233968_full_megan.jpg
GEO:42.5157502;-92.4132507
X-APPLE-STRUCTURED-LOCATION;VALUE=URI;X-ADDRESS=Cedar Heights Baptist Church 2430 Neola St. Cedar Falls IA 50613;X-APPLE-RADIUS=500;X-TITLE=2430 Neola St.:geo:-92.4132507,42.5157502
END:VEVENT
BEGIN:VEVENT
DTSTART;TZID=America/Chicago:20260607T101500
DTEND;TZID=America/Chicago:20260607T110000
DTSTAMP:20260425T054121
CREATED:20240307T165425Z
LAST-MODIFIED:20260302T151912Z
UID:10004422-1780827300-1780830000@cedarheightsbaptist.com
SUMMARY:Sunday school
DESCRIPTION:Join us as we gather together to study God’s Word.
URL:https://cedarheightsbaptist.com/event/sunday-school-2/2026-06-07/
LOCATION:Cedar Heights Baptist Church\, 2430 Neola St.\, Cedar Falls\, IA\, 50613
CATEGORIES:Adults,Children,Student,Youth
ATTACH;FMTTYPE=image/jpeg:https://cedarheightsbaptist.s3.amazonaws.com/wp-content/uploads/2016/03/23130646/lightstock_322583_download_medium_megan_.jpg
GEO:42.5157502;-92.4132507
X-APPLE-STRUCTURED-LOCATION;VALUE=URI;X-ADDRESS=Cedar Heights Baptist Church 2430 Neola St. Cedar Falls IA 50613;X-APPLE-RADIUS=500;X-TITLE=2430 Neola St.:geo:-92.4132507,42.5157502
END:VEVENT
BEGIN:VEVENT
DTSTART;TZID=America/Chicago:20260607T111500
DTEND;TZID=America/Chicago:20260607T123000
DTSTAMP:20260425T054121
CREATED:20260216T164101Z
LAST-MODIFIED:20260216T164101Z
UID:10004863-1780830900-1780835400@cedarheightsbaptist.com
SUMMARY:Worship Service
DESCRIPTION:We would love for you to join us as we worship together! We also livestream the service on our YouTube channel.
URL:https://cedarheightsbaptist.com/event/worship-service-2/2026-06-07/
LOCATION:Cedar Heights Baptist Church\, 2430 Neola St.\, Cedar Falls\, IA\, 50613
CATEGORIES:Adults,Children,Student,Youth
ATTACH;FMTTYPE=image/jpeg:https://cedarheightsbaptist.s3.amazonaws.com/wp-content/uploads/2016/03/23130638/lightstock_233968_full_megan.jpg
GEO:42.5157502;-92.4132507
X-APPLE-STRUCTURED-LOCATION;VALUE=URI;X-ADDRESS=Cedar Heights Baptist Church 2430 Neola St. Cedar Falls IA 50613;X-APPLE-RADIUS=500;X-TITLE=2430 Neola St.:geo:-92.4132507,42.5157502
END:VEVENT
BEGIN:VEVENT
DTSTART;TZID=America/Chicago:20260614T084500
DTEND;TZID=America/Chicago:20260614T100000
DTSTAMP:20260425T054121
CREATED:20250725T145503Z
LAST-MODIFIED:20251030T162903Z
UID:10004787-1781426700-1781431200@cedarheightsbaptist.com
SUMMARY:Worship Service
DESCRIPTION:We would love for you to join us as we worship together! We also livestream the service on our YouTube channel.
URL:https://cedarheightsbaptist.com/event/worship-service-2/2026-06-14/
LOCATION:Cedar Heights Baptist Church\, 2430 Neola St.\, Cedar Falls\, IA\, 50613
CATEGORIES:Adults,Children,Student,Youth
ATTACH;FMTTYPE=image/jpeg:https://cedarheightsbaptist.s3.amazonaws.com/wp-content/uploads/2016/03/23130638/lightstock_233968_full_megan.jpg
GEO:42.5157502;-92.4132507
X-APPLE-STRUCTURED-LOCATION;VALUE=URI;X-ADDRESS=Cedar Heights Baptist Church 2430 Neola St. Cedar Falls IA 50613;X-APPLE-RADIUS=500;X-TITLE=2430 Neola St.:geo:-92.4132507,42.5157502
END:VEVENT
BEGIN:VEVENT
DTSTART;TZID=America/Chicago:20260614T101500
DTEND;TZID=America/Chicago:20260614T110000
DTSTAMP:20260425T054121
CREATED:20240307T165425Z
LAST-MODIFIED:20260302T151912Z
UID:10004423-1781432100-1781434800@cedarheightsbaptist.com
SUMMARY:Sunday school
DESCRIPTION:Join us as we gather together to study God’s Word.
URL:https://cedarheightsbaptist.com/event/sunday-school-2/2026-06-14/
LOCATION:Cedar Heights Baptist Church\, 2430 Neola St.\, Cedar Falls\, IA\, 50613
CATEGORIES:Adults,Children,Student,Youth
ATTACH;FMTTYPE=image/jpeg:https://cedarheightsbaptist.s3.amazonaws.com/wp-content/uploads/2016/03/23130646/lightstock_322583_download_medium_megan_.jpg
GEO:42.5157502;-92.4132507
X-APPLE-STRUCTURED-LOCATION;VALUE=URI;X-ADDRESS=Cedar Heights Baptist Church 2430 Neola St. Cedar Falls IA 50613;X-APPLE-RADIUS=500;X-TITLE=2430 Neola St.:geo:-92.4132507,42.5157502
END:VEVENT
BEGIN:VEVENT
DTSTART;TZID=America/Chicago:20260614T111500
DTEND;TZID=America/Chicago:20260614T123000
DTSTAMP:20260425T054121
CREATED:20260216T164101Z
LAST-MODIFIED:20260216T164101Z
UID:10004864-1781435700-1781440200@cedarheightsbaptist.com
SUMMARY:Worship Service
DESCRIPTION:We would love for you to join us as we worship together! We also livestream the service on our YouTube channel.
URL:https://cedarheightsbaptist.com/event/worship-service-2/2026-06-14/
LOCATION:Cedar Heights Baptist Church\, 2430 Neola St.\, Cedar Falls\, IA\, 50613
CATEGORIES:Adults,Children,Student,Youth
ATTACH;FMTTYPE=image/jpeg:https://cedarheightsbaptist.s3.amazonaws.com/wp-content/uploads/2016/03/23130638/lightstock_233968_full_megan.jpg
GEO:42.5157502;-92.4132507
X-APPLE-STRUCTURED-LOCATION;VALUE=URI;X-ADDRESS=Cedar Heights Baptist Church 2430 Neola St. Cedar Falls IA 50613;X-APPLE-RADIUS=500;X-TITLE=2430 Neola St.:geo:-92.4132507,42.5157502
END:VEVENT
BEGIN:VEVENT
DTSTART;TZID=America/Chicago:20260621T084500
DTEND;TZID=America/Chicago:20260621T100000
DTSTAMP:20260425T054121
CREATED:20250725T145503Z
LAST-MODIFIED:20251030T162903Z
UID:10004788-1782031500-1782036000@cedarheightsbaptist.com
SUMMARY:Worship Service
DESCRIPTION:We would love for you to join us as we worship together! We also livestream the service on our YouTube channel.
URL:https://cedarheightsbaptist.com/event/worship-service-2/2026-06-21/
LOCATION:Cedar Heights Baptist Church\, 2430 Neola St.\, Cedar Falls\, IA\, 50613
CATEGORIES:Adults,Children,Student,Youth
ATTACH;FMTTYPE=image/jpeg:https://cedarheightsbaptist.s3.amazonaws.com/wp-content/uploads/2016/03/23130638/lightstock_233968_full_megan.jpg
GEO:42.5157502;-92.4132507
X-APPLE-STRUCTURED-LOCATION;VALUE=URI;X-ADDRESS=Cedar Heights Baptist Church 2430 Neola St. Cedar Falls IA 50613;X-APPLE-RADIUS=500;X-TITLE=2430 Neola St.:geo:-92.4132507,42.5157502
END:VEVENT
BEGIN:VEVENT
DTSTART;TZID=America/Chicago:20260621T101500
DTEND;TZID=America/Chicago:20260621T110000
DTSTAMP:20260425T054121
CREATED:20240307T165425Z
LAST-MODIFIED:20260302T151912Z
UID:10004424-1782036900-1782039600@cedarheightsbaptist.com
SUMMARY:Sunday school
DESCRIPTION:Join us as we gather together to study God’s Word.
URL:https://cedarheightsbaptist.com/event/sunday-school-2/2026-06-21/
LOCATION:Cedar Heights Baptist Church\, 2430 Neola St.\, Cedar Falls\, IA\, 50613
CATEGORIES:Adults,Children,Student,Youth
ATTACH;FMTTYPE=image/jpeg:https://cedarheightsbaptist.s3.amazonaws.com/wp-content/uploads/2016/03/23130646/lightstock_322583_download_medium_megan_.jpg
GEO:42.5157502;-92.4132507
X-APPLE-STRUCTURED-LOCATION;VALUE=URI;X-ADDRESS=Cedar Heights Baptist Church 2430 Neola St. Cedar Falls IA 50613;X-APPLE-RADIUS=500;X-TITLE=2430 Neola St.:geo:-92.4132507,42.5157502
END:VEVENT
BEGIN:VEVENT
DTSTART;TZID=America/Chicago:20260621T111500
DTEND;TZID=America/Chicago:20260621T123000
DTSTAMP:20260425T054121
CREATED:20260216T164101Z
LAST-MODIFIED:20260216T164101Z
UID:10004865-1782040500-1782045000@cedarheightsbaptist.com
SUMMARY:Worship Service
DESCRIPTION:We would love for you to join us as we worship together! We also livestream the service on our YouTube channel.
URL:https://cedarheightsbaptist.com/event/worship-service-2/2026-06-21/
LOCATION:Cedar Heights Baptist Church\, 2430 Neola St.\, Cedar Falls\, IA\, 50613
CATEGORIES:Adults,Children,Student,Youth
ATTACH;FMTTYPE=image/jpeg:https://cedarheightsbaptist.s3.amazonaws.com/wp-content/uploads/2016/03/23130638/lightstock_233968_full_megan.jpg
GEO:42.5157502;-92.4132507
X-APPLE-STRUCTURED-LOCATION;VALUE=URI;X-ADDRESS=Cedar Heights Baptist Church 2430 Neola St. Cedar Falls IA 50613;X-APPLE-RADIUS=500;X-TITLE=2430 Neola St.:geo:-92.4132507,42.5157502
END:VEVENT
BEGIN:VEVENT
DTSTART;TZID=America/Chicago:20260622T180000
DTEND;TZID=America/Chicago:20260622T200000
DTSTAMP:20260425T054121
CREATED:20260414T153525Z
LAST-MODIFIED:20260414T153525Z
UID:10005126-1782151200-1782158400@cedarheightsbaptist.com
SUMMARY:Vacation Bible School
DESCRIPTION:
URL:https://cedarheightsbaptist.com/event/vacation-bible-school-5/2026-06-22/
LOCATION:Cedar Heights Baptist Church\, 2430 Neola St.\, Cedar Falls\, IA\, 50613
CATEGORIES:Children
ATTACH;FMTTYPE=image/jpeg:https://cedarheightsbaptist.s3.amazonaws.com/wp-content/uploads/2026/04/14103328/Slide1.jpeg
GEO:42.5157502;-92.4132507
X-APPLE-STRUCTURED-LOCATION;VALUE=URI;X-ADDRESS=Cedar Heights Baptist Church 2430 Neola St. Cedar Falls IA 50613;X-APPLE-RADIUS=500;X-TITLE=2430 Neola St.:geo:-92.4132507,42.5157502
END:VEVENT
BEGIN:VEVENT
DTSTART;TZID=America/Chicago:20260623T180000
DTEND;TZID=America/Chicago:20260623T200000
DTSTAMP:20260425T054121
CREATED:20260414T153525Z
LAST-MODIFIED:20260414T153525Z
UID:10005127-1782237600-1782244800@cedarheightsbaptist.com
SUMMARY:Vacation Bible School
DESCRIPTION:
URL:https://cedarheightsbaptist.com/event/vacation-bible-school-5/2026-06-23/
LOCATION:Cedar Heights Baptist Church\, 2430 Neola St.\, Cedar Falls\, IA\, 50613
CATEGORIES:Children
ATTACH;FMTTYPE=image/jpeg:https://cedarheightsbaptist.s3.amazonaws.com/wp-content/uploads/2026/04/14103328/Slide1.jpeg
GEO:42.5157502;-92.4132507
X-APPLE-STRUCTURED-LOCATION;VALUE=URI;X-ADDRESS=Cedar Heights Baptist Church 2430 Neola St. Cedar Falls IA 50613;X-APPLE-RADIUS=500;X-TITLE=2430 Neola St.:geo:-92.4132507,42.5157502
END:VEVENT
BEGIN:VEVENT
DTSTART;TZID=America/Chicago:20260624T180000
DTEND;TZID=America/Chicago:20260624T200000
DTSTAMP:20260425T054121
CREATED:20260414T153525Z
LAST-MODIFIED:20260414T153525Z
UID:10005128-1782324000-1782331200@cedarheightsbaptist.com
SUMMARY:Vacation Bible School
DESCRIPTION:
URL:https://cedarheightsbaptist.com/event/vacation-bible-school-5/2026-06-24/
LOCATION:Cedar Heights Baptist Church\, 2430 Neola St.\, Cedar Falls\, IA\, 50613
CATEGORIES:Children
ATTACH;FMTTYPE=image/jpeg:https://cedarheightsbaptist.s3.amazonaws.com/wp-content/uploads/2026/04/14103328/Slide1.jpeg
GEO:42.5157502;-92.4132507
X-APPLE-STRUCTURED-LOCATION;VALUE=URI;X-ADDRESS=Cedar Heights Baptist Church 2430 Neola St. Cedar Falls IA 50613;X-APPLE-RADIUS=500;X-TITLE=2430 Neola St.:geo:-92.4132507,42.5157502
END:VEVENT
BEGIN:VEVENT
DTSTART;TZID=America/Chicago:20260625T180000
DTEND;TZID=America/Chicago:20260625T200000
DTSTAMP:20260425T054121
CREATED:20260414T153525Z
LAST-MODIFIED:20260414T153525Z
UID:10005129-1782410400-1782417600@cedarheightsbaptist.com
SUMMARY:Vacation Bible School
DESCRIPTION:
URL:https://cedarheightsbaptist.com/event/vacation-bible-school-5/2026-06-25/
LOCATION:Cedar Heights Baptist Church\, 2430 Neola St.\, Cedar Falls\, IA\, 50613
CATEGORIES:Children
ATTACH;FMTTYPE=image/jpeg:https://cedarheightsbaptist.s3.amazonaws.com/wp-content/uploads/2026/04/14103328/Slide1.jpeg
GEO:42.5157502;-92.4132507
X-APPLE-STRUCTURED-LOCATION;VALUE=URI;X-ADDRESS=Cedar Heights Baptist Church 2430 Neola St. Cedar Falls IA 50613;X-APPLE-RADIUS=500;X-TITLE=2430 Neola St.:geo:-92.4132507,42.5157502
END:VEVENT
BEGIN:VEVENT
DTSTART;TZID=America/Chicago:20260626T180000
DTEND;TZID=America/Chicago:20260626T200000
DTSTAMP:20260425T054121
CREATED:20260414T153525Z
LAST-MODIFIED:20260414T153525Z
UID:10005130-1782496800-1782504000@cedarheightsbaptist.com
SUMMARY:Vacation Bible School
DESCRIPTION:
URL:https://cedarheightsbaptist.com/event/vacation-bible-school-5/2026-06-26/
LOCATION:Cedar Heights Baptist Church\, 2430 Neola St.\, Cedar Falls\, IA\, 50613
CATEGORIES:Children
ATTACH;FMTTYPE=image/jpeg:https://cedarheightsbaptist.s3.amazonaws.com/wp-content/uploads/2026/04/14103328/Slide1.jpeg
GEO:42.5157502;-92.4132507
X-APPLE-STRUCTURED-LOCATION;VALUE=URI;X-ADDRESS=Cedar Heights Baptist Church 2430 Neola St. Cedar Falls IA 50613;X-APPLE-RADIUS=500;X-TITLE=2430 Neola St.:geo:-92.4132507,42.5157502
END:VEVENT
BEGIN:VEVENT
DTSTART;TZID=America/Chicago:20260628T084500
DTEND;TZID=America/Chicago:20260628T100000
DTSTAMP:20260425T054121
CREATED:20250725T145503Z
LAST-MODIFIED:20251030T162903Z
UID:10004789-1782636300-1782640800@cedarheightsbaptist.com
SUMMARY:Worship Service
DESCRIPTION:We would love for you to join us as we worship together! We also livestream the service on our YouTube channel.
URL:https://cedarheightsbaptist.com/event/worship-service-2/2026-06-28/
LOCATION:Cedar Heights Baptist Church\, 2430 Neola St.\, Cedar Falls\, IA\, 50613
CATEGORIES:Adults,Children,Student,Youth
ATTACH;FMTTYPE=image/jpeg:https://cedarheightsbaptist.s3.amazonaws.com/wp-content/uploads/2016/03/23130638/lightstock_233968_full_megan.jpg
GEO:42.5157502;-92.4132507
X-APPLE-STRUCTURED-LOCATION;VALUE=URI;X-ADDRESS=Cedar Heights Baptist Church 2430 Neola St. Cedar Falls IA 50613;X-APPLE-RADIUS=500;X-TITLE=2430 Neola St.:geo:-92.4132507,42.5157502
END:VEVENT
BEGIN:VEVENT
DTSTART;TZID=America/Chicago:20260628T101500
DTEND;TZID=America/Chicago:20260628T110000
DTSTAMP:20260425T054121
CREATED:20240307T165425Z
LAST-MODIFIED:20260302T151912Z
UID:10004425-1782641700-1782644400@cedarheightsbaptist.com
SUMMARY:Sunday school
DESCRIPTION:Join us as we gather together to study God’s Word.
URL:https://cedarheightsbaptist.com/event/sunday-school-2/2026-06-28/
LOCATION:Cedar Heights Baptist Church\, 2430 Neola St.\, Cedar Falls\, IA\, 50613
CATEGORIES:Adults,Children,Student,Youth
ATTACH;FMTTYPE=image/jpeg:https://cedarheightsbaptist.s3.amazonaws.com/wp-content/uploads/2016/03/23130646/lightstock_322583_download_medium_megan_.jpg
GEO:42.5157502;-92.4132507
X-APPLE-STRUCTURED-LOCATION;VALUE=URI;X-ADDRESS=Cedar Heights Baptist Church 2430 Neola St. Cedar Falls IA 50613;X-APPLE-RADIUS=500;X-TITLE=2430 Neola St.:geo:-92.4132507,42.5157502
END:VEVENT
BEGIN:VEVENT
DTSTART;TZID=America/Chicago:20260628T111500
DTEND;TZID=America/Chicago:20260628T123000
DTSTAMP:20260425T054121
CREATED:20260216T164101Z
LAST-MODIFIED:20260216T164101Z
UID:10004866-1782645300-1782649800@cedarheightsbaptist.com
SUMMARY:Worship Service
DESCRIPTION:We would love for you to join us as we worship together! We also livestream the service on our YouTube channel.
URL:https://cedarheightsbaptist.com/event/worship-service-2/2026-06-28/
LOCATION:Cedar Heights Baptist Church\, 2430 Neola St.\, Cedar Falls\, IA\, 50613
CATEGORIES:Adults,Children,Student,Youth
ATTACH;FMTTYPE=image/jpeg:https://cedarheightsbaptist.s3.amazonaws.com/wp-content/uploads/2016/03/23130638/lightstock_233968_full_megan.jpg
GEO:42.5157502;-92.4132507
X-APPLE-STRUCTURED-LOCATION;VALUE=URI;X-ADDRESS=Cedar Heights Baptist Church 2430 Neola St. Cedar Falls IA 50613;X-APPLE-RADIUS=500;X-TITLE=2430 Neola St.:geo:-92.4132507,42.5157502
END:VEVENT
BEGIN:VEVENT
DTSTART;TZID=America/Chicago:20260705T084500
DTEND;TZID=America/Chicago:20260705T100000
DTSTAMP:20260425T054121
CREATED:20250725T145503Z
LAST-MODIFIED:20251030T162903Z
UID:10004790-1783241100-1783245600@cedarheightsbaptist.com
SUMMARY:Worship Service
DESCRIPTION:We would love for you to join us as we worship together! We also livestream the service on our YouTube channel.
URL:https://cedarheightsbaptist.com/event/worship-service-2/2026-07-05/
LOCATION:Cedar Heights Baptist Church\, 2430 Neola St.\, Cedar Falls\, IA\, 50613
CATEGORIES:Adults,Children,Student,Youth
ATTACH;FMTTYPE=image/jpeg:https://cedarheightsbaptist.s3.amazonaws.com/wp-content/uploads/2016/03/23130638/lightstock_233968_full_megan.jpg
GEO:42.5157502;-92.4132507
X-APPLE-STRUCTURED-LOCATION;VALUE=URI;X-ADDRESS=Cedar Heights Baptist Church 2430 Neola St. Cedar Falls IA 50613;X-APPLE-RADIUS=500;X-TITLE=2430 Neola St.:geo:-92.4132507,42.5157502
END:VEVENT
END:VCALENDAR